BEGIN:VCALENDAR
VERSION:2.0
PRODID:-//SELKjugend - ECPv6.15.20//NONSGML v1.0//EN
CALSCALE:GREGORIAN
METHOD:PUBLISH
X-WR-CALNAME:SELKjugend
X-ORIGINAL-URL:https://www.selk-jugend.de
X-WR-CALDESC:Veranstaltungen für SELKjugend
REFRESH-INTERVAL;VALUE=DURATION:PT1H
X-Robots-Tag:noindex
X-PUBLISHED-TTL:PT1H
BEGIN:VTIMEZONE
TZID:Europe/Berlin
BEGIN:DAYLIGHT
TZOFFSETFROM:+0100
TZOFFSETTO:+0200
TZNAME:CEST
DTSTART:20250330T010000
END:DAYLIGHT
BEGIN:STANDARD
TZOFFSETFROM:+0200
TZOFFSETTO:+0100
TZNAME:CET
DTSTART:20251026T010000
END:STANDARD
BEGIN:DAYLIGHT
TZOFFSETFROM:+0100
TZOFFSETTO:+0200
TZNAME:CEST
DTSTART:20260329T010000
END:DAYLIGHT
BEGIN:STANDARD
TZOFFSETFROM:+0200
TZOFFSETTO:+0100
TZNAME:CET
DTSTART:20261025T010000
END:STANDARD
BEGIN:DAYLIGHT
TZOFFSETFROM:+0100
TZOFFSETTO:+0200
TZNAME:CEST
DTSTART:20270328T010000
END:DAYLIGHT
BEGIN:STANDARD
TZOFFSETFROM:+0200
TZOFFSETTO:+0100
TZNAME:CET
DTSTART:20271031T010000
END:STANDARD
END:VTIMEZONE
BEGIN:VEVENT
DTSTART;VALUE=DATE:20260424
DTEND;VALUE=DATE:20260427
DTSTAMP:20260424T014028
CREATED:20251210T140818Z
LAST-MODIFIED:20251210T140818Z
UID:3540-1776988800-1777247999@www.selk-jugend.de
SUMMARY:BJT in Homberg (Efze) | Hessen-Nord
DESCRIPTION:
URL:https://www.selk-jugend.de/event/bjt-in-homberg-efze-hessen-nord/
LOCATION:Evangelisch-lutherische Petrus-Gemeinde Homberg (Efze)\, Bergstraße 17a\, Homberg (Efze)\, Hessen\, 34576\, Germany
CATEGORIES:Hessen-Nord
END:VEVENT
BEGIN:VEVENT
DTSTART;VALUE=DATE:20260424
DTEND;VALUE=DATE:20260427
DTSTAMP:20260424T014028
CREATED:20260225T084312Z
LAST-MODIFIED:20260225T084312Z
UID:3698-1776988800-1777247999@www.selk-jugend.de
SUMMARY:BJT | Rheinland-Westfalen
DESCRIPTION:
URL:https://www.selk-jugend.de/event/bjt-rheinland-westfalen/
LOCATION:Kreuzkirche Witten\, Lutherstraße 9\, Witten\, Nordrhein-Westfalen\, Deutschland
CATEGORIES:Rheinland-Westfalen
ORGANIZER;CN="Bezirksjugendpfarramt Rheinland-Westfalen":MAILTO:reinecke[at]selk.de
END:VEVENT
END:VCALENDAR